BEGIN:VCALENDAR
VERSION:2.0
PRODID:-//Hospice of Orange &amp; Sullivan - ECPv6.15.20//NONSGML v1.0//EN
CALSCALE:GREGORIAN
METHOD:PUBLISH
X-ORIGINAL-URL:https://hospiceoforange.com
X-WR-CALDESC:Events for Hospice of Orange &amp; Sullivan
REFRESH-INTERVAL;VALUE=DURATION:PT1H
X-Robots-Tag:noindex
X-PUBLISHED-TTL:PT1H
BEGIN:VTIMEZONE
TZID:America/New_York
BEGIN:DAYLIGHT
TZOFFSETFROM:-0500
TZOFFSETTO:-0400
TZNAME:EDT
DTSTART:20230312T070000
END:DAYLIGHT
BEGIN:STANDARD
TZOFFSETFROM:-0400
TZOFFSETTO:-0500
TZNAME:EST
DTSTART:20231105T060000
END:STANDARD
BEGIN:DAYLIGHT
TZOFFSETFROM:-0500
TZOFFSETTO:-0400
TZNAME:EDT
DTSTART:20240310T070000
END:DAYLIGHT
BEGIN:STANDARD
TZOFFSETFROM:-0400
TZOFFSETTO:-0500
TZNAME:EST
DTSTART:20241103T060000
END:STANDARD
BEGIN:DAYLIGHT
TZOFFSETFROM:-0500
TZOFFSETTO:-0400
TZNAME:EDT
DTSTART:20250309T070000
END:DAYLIGHT
BEGIN:STANDARD
TZOFFSETFROM:-0400
TZOFFSETTO:-0500
TZNAME:EST
DTSTART:20251102T060000
END:STANDARD
BEGIN:DAYLIGHT
TZOFFSETFROM:-0500
TZOFFSETTO:-0400
TZNAME:EDT
DTSTART:20260308T070000
END:DAYLIGHT
BEGIN:STANDARD
TZOFFSETFROM:-0400
TZOFFSETTO:-0500
TZNAME:EST
DTSTART:20261101T060000
END:STANDARD
BEGIN:DAYLIGHT
TZOFFSETFROM:-0500
TZOFFSETTO:-0400
TZNAME:EDT
DTSTART:20270314T070000
END:DAYLIGHT
BEGIN:STANDARD
TZOFFSETFROM:-0400
TZOFFSETTO:-0500
TZNAME:EST
DTSTART:20271107T060000
END:STANDARD
END:VTIMEZONE
BEGIN:VEVENT
DTSTART;TZID=America/New_York:20240420T180000
DTEND;TZID=America/New_York:20240420T230000
DTSTAMP:20260422T181337
CREATED:20240102T163658Z
LAST-MODIFIED:20240419T224937Z
UID:17284-1713636000-1713654000@hospiceoforange.com
SUMMARY:2024 Annual Gala
DESCRIPTION:Hospice of Orange & Sullivan Counties will hold its Annual Gala on Saturday\, April 20\, 2024\, at West Hills Country Club in Middletown\, NY. For their years of commitment\, dedication\, and service to Hospice and our community\, we are proud to honor Dr. Susan Jensen and Horizon Family Medical Group and Mr. Michael J. Gilfeather and Orange Bank & Trust Company. You can still support Hospice of Orange & Sullivan Counties and this year’s honorees by making a donation to the 2024 Annual Gala. \n \nClick here to make a donation.\nClick here to view the online journal.\n  \nIf you have any questions\, please contact Maggie Sutter\, Director of Development\, at (845) 561-6111 or m.sutter@hospiceoforange.com \nOur Annual Gala allows us to continue our mission “to be the leading community resource for providing patients and their families with compassionate physical\, emotional\, and spiritual end-of-life care\, with comfort\, dignity\, and respect” by raising funds to provide Hospice Services within the community and at The Kaplan Family Hospice Residence. \n  \nThank You To Our Sponsors\nDr. Robert Dinsmore \nHorizon Family Medical Group \nKiewit Foundation Companies \nLakeland Bank \nOrange Bank & Trust Company \nA. Vince Mazzie and Oppenheimer & Co.\, Inc. \nMutual of America \nTom and Janet Sullivan \nSummer Set Properties\, LLC \nWTBQ AM 1100 FM 93.5 & WGHT AM 1500 FM 98.3
URL:https://hospiceoforange.com/event/2024-annual-gala/
LOCATION:West Hills Country Club\, 121 Golf Links Road\, Middletown\, NY\, 10940\, United States
CATEGORIES:Special Events
ATTACH;FMTTYPE=image/png:https://hospiceoforange.com/wp-content/uploads/2024/01/HOSC-2024-Gala-Logo_Black_Transparent.png
END:VEVENT
BEGIN:VEVENT
DTSTART;TZID=America/New_York:20240510T123000
DTEND;TZID=America/New_York:20240510T133000
DTSTAMP:20260422T181337
CREATED:20240328T132616Z
LAST-MODIFIED:20240328T132656Z
UID:17423-1715344200-1715347800@hospiceoforange.com
SUMMARY:Lunch & Learn Webinar: How Hospice Cares For The Mental Health of Veterans At End-of-Life
DESCRIPTION:  \nHospice of Orange & Sullivan Counties is partnering with other Level 5 We Honor Veteran partners in educating peers regarding how hospice cares for the mental health of Veterans at the end of their life. \nClick here to register. \nPanelists:\nVictoria Ring\, MSW\, Veterans Services Coordinator at NHPCO\nTeresa Holstein\, Senior Vice President & COO at Hudson Valley Hospice\nNisha Manglani\, Director of Psychosocial Services at Hudson Valley Hospice\nAshton Stewart\, Veteran Liaison & Cultural Sensitivity Outreach Coordinator at Metropolitan Jewish Hospice Services and United States Navy Operation Desert Shield\nToby Weiss\, Assistant Vice President of Cultural Diversity at Metropolitan Jewish Hospice Services\nJanette Grainger\, LMSW\, Hospice & Palliative Care Social Worker at Chenango Hospice\nSarah Green\, Director of Volunteer & Outreach at Chenango Hospice\nLacy Rugaber\, BSN\, RN\, CHPN\, CCM\, Clinical Manager at Hospice of Orange & Sullivan Counties and United States Army Operation Freedom’s Sentinel\nKim Warner\, LCSW\, ACHP-SW\, Director of Social Work & Bereavement at Hospice of Orange & Sullivan Counties \n  \nFor more information\, please contact the Hospice of Orange & Sullivan Counties Advancement Department at 845-561-6111 or advancement@hospiceoforange.com
URL:https://hospiceoforange.com/event/lunch-learn-webinar-how-hospice-cares-for-the-mental-health-of-veterans-at-end-of-life/
LOCATION:Zoom
CATEGORIES:Special Events,Veteran Event
ATTACH;FMTTYPE=image/png:https://hospiceoforange.com/wp-content/uploads/2024/03/Webinar-Topic-Pic.png
END:VEVENT
BEGIN:VEVENT
DTSTART;TZID=America/New_York:20240612T090000
DTEND;TZID=America/New_York:20240612T110000
DTSTAMP:20260422T181337
CREATED:20240430T134750Z
LAST-MODIFIED:20240513T182515Z
UID:17528-1718182800-1718190000@hospiceoforange.com
SUMMARY:2024 Veteran Celebration
DESCRIPTION:June 12\, 2024\, from 9:00 to 11:00am\, at Otterkill Country Club \nAll Veterans are invited to attend for free. Please register in advance below as space is limited. \nClick here to view the event flyer. \nThe breakfast is designed to honor and thank Veterans\, show our appreciation for their sacrifices\, and provide camaraderie and a sense of community. In addition to breakfast\, there will be a guest speaker\, and the Annual Paul V. Rader Vet-to-Vet Volunteer Award will be presented to a volunteer in recognition of their dedication and support to Veterans. \n \nGuest Speaker: Major Brian A. Ibbs is the Commander of the 105th Base Defense Squadron\, Stewart Air National Guard Base\, Newburgh\, New York. He is responsible for the security\, law enforcement\, and protection of 1\,300 Airmen and installation assets valued at $1.6 Billion and is the Wing Anti-Terrorism Officer. \n  \nPlease contact the Hospice of Orange & Sullivan Counties Advancement Department at 845-561-6111 or advancement@hospiceoforange.com for more information.
URL:https://hospiceoforange.com/event/2024-veteran-celebration/
LOCATION:Otterkill Country Club\, 100 Otter Rd\, Campbell Hall\, NY\, 10916\, United States
CATEGORIES:Special Events,Veteran Event
ATTACH;FMTTYPE=image/png:https://hospiceoforange.com/wp-content/uploads/2023/04/Logo.png
END:VEVENT
BEGIN:VEVENT
DTSTART;TZID=America/New_York:20240613T130000
DTEND;TZID=America/New_York:20240613T143000
DTSTAMP:20260422T181337
CREATED:20240513T224152Z
LAST-MODIFIED:20240514T180523Z
UID:17598-1718283600-1718289000@hospiceoforange.com
SUMMARY:Informational Session at Wildflower at Wallkill
DESCRIPTION:Come and Join Us!\nThursday\, June 13\, at 1:00 pm\nWildflowers at Wallkill\n2 Hawthorn Drive\, Middletown\, NY\nHospice of Orange & Sullivan Counties representatives will hold an informational session on the programs and services we offer. \n  \nFor more information\, please contact the Advancement Department at 845-561-6111 or advancement@hospiceoforange.com
URL:https://hospiceoforange.com/event/informational-session-at-wildflower-at-wallkill/
LOCATION:Wildflower at Wallkill\, 2 Hawthorn Drive\, Middletown\, NY\, 10940\, United States
CATEGORIES:Special Events
ATTACH;FMTTYPE=image/png:https://hospiceoforange.com/wp-content/uploads/2024/05/Wildflower-Cover-Image.png
END:VEVENT
BEGIN:VEVENT
DTSTART;TZID=America/New_York:20240805T110000
DTEND;TZID=America/New_York:20240805T190000
DTSTAMP:20260422T181337
CREATED:20240415T154008Z
LAST-MODIFIED:20240806T163751Z
UID:17451-1722855600-1722884400@hospiceoforange.com
SUMMARY:17th Annual Golf Classic
DESCRIPTION:Hospice of Orange & Sullivan Counties\, Inc. will host it’s 17th Annual Golf Classic on Monday\, August 5\, 2024.\nAs most of you know\, the Hospice golf classic is highly anticipated and fills up very quickly\, so golfers are encouraged to register early! It is first come\, first serve with a limit of 112 golfers. \nThe cost to play is $275.00 per golfer\, or $1\,100.00 for a foursome\, and golfers will play scramble format.  There will be prizes for each division. Registration begins at 11:00am\, followed with a barbecue lunch\, and Shotgun Start is at 12:00pm.  After golf\, cocktail style dining and open bar begins at 5:30pm\, and the awards presentations and raffle drawing will be at 7:00pm. Dinner only reservations are also available for $100.00 per ticket. \nClick here to view the event package. \nOur famous $25\,000 raffle will follow dinner with ten prize winners to be drawn\, including a $10\,000 winner!  Tickets are $100.00 per ticket. A maximum of 600 tickets will be sold. Need not be present to win. Contact Maggie Sutter\, Director of Development\, at 845-561-6111 x366 or m.sutter@hospiceoforange.com to purchase. \nFor more information regarding sponsorship opportunities\, golfer registration\, purchase a raffle ticket\, or have any additional questions\, please contact Advancement Department at  advancement@hospiceoforange.com or call (845) 561-6111. \nWe look forward to seeing you on the course!
URL:https://hospiceoforange.com/event/17th-annual-golf-classic/
CATEGORIES:Special Events
ATTACH;FMTTYPE=image/png:https://hospiceoforange.com/wp-content/uploads/2024/04/Event-Info-Almost-Sold-Out.png
END:VEVENT
BEGIN:VEVENT
DTSTART;TZID=America/New_York:20240908T120000
DTEND;TZID=America/New_York:20240908T180000
DTSTAMP:20260422T181337
CREATED:20240501T184057Z
LAST-MODIFIED:20240501T184057Z
UID:17548-1725796800-1725818400@hospiceoforange.com
SUMMARY:FUNdraising Sunday at Newburgh Brewery
DESCRIPTION:Join us on Sunday\, September 8\, at Newburgh Brewing Company for FUNdraising Sunday\, where 10% of all taproom and lobby sales will be donated to Hospice of Orange & Sullivan Counties. \nBeer\, food\, wine\, cocktails\, merchandise\, and beer to go are all included. \nStop by anytime between 12:00pm – 6:00pm. \nHope to see you there! \n  \nFor more information\, please contact the Advancement Department at (845) 561-6111 or advancement@hospiceoforange.com
URL:https://hospiceoforange.com/event/fundraising-sunday-at-newburgh-brewery/
LOCATION:Newburgh Brewing Company\, 88 South Colden Street\, Newburgh\, New York\, 12550
CATEGORIES:Special Events
ATTACH;FMTTYPE=image/png:https://hospiceoforange.com/wp-content/uploads/2024/05/2024-FUNdraising-Sunday-Image.png
END:VEVENT
BEGIN:VEVENT
DTSTART;TZID=America/New_York:20241024T173000
DTEND;TZID=America/New_York:20241024T213000
DTSTAMP:20260422T181337
CREATED:20240514T180952Z
LAST-MODIFIED:20241024T172932Z
UID:17606-1729791000-1729805400@hospiceoforange.com
SUMMARY:9th Annual Witch Hat Party
DESCRIPTION:Hospice of Orange & Sullivan Counties is excited to announce its 9th Annual Witch Hat Party to be held on Thursday\, October 24\, at The Powelton Club in Newburgh.\nClick here to view the event package. \nContact the Advancement Department at advancement@hospiceoforange.com if interested in tickets.\nTicket Includes: Buffet dinner\, glass of wine\, group reading with a medium. \nEvent Includes: 50/50 raffle\, door prizes\, silent auction\, and more fun throughout the evening! \nPrizes for the Best Hat or Best Fascinator and Spirit Award for Group with Most Spirit! \nFirst come\, first serve. Registration is limited to 185. RSVP by October 1\, 2024. \nFor more information on sponsorship opportunities\, event registration\, raffles\, and more\, please contact the Advancement Department at (845) 561-6111 or advancement@hospiceoforange.com \nDress Code: No jeans are permitted at The Powelton Club.\nThank You to Our Sponsors!\nAlexis Diner \nBehavioral Health Services of the Hudson Valley \nDreyer Law \nHomestead Funding Corp \nKaren Taphorn\, Rand Realty \nLoBiondo Law \nMadeline’s Room Balloon & Event Decorating Salon \nO’Keefe & McCann\, LLP \nOppenheimer & Co.\, Inc. \nRider\, Weiner\, & Frankel \nSummer Set Properties \nKaren Taphorn\, Rand Realty \nTaylor Montgomery\, LLC
URL:https://hospiceoforange.com/event/9th-annual-witch-hat-party/
LOCATION:The Powelton Club\, Balmville Road\, Newburgh\, 12550\, United States
CATEGORIES:Special Events
ATTACH;FMTTYPE=image/png:https://hospiceoforange.com/wp-content/uploads/2024/05/2024-WHP-Cover-Image.png
END:VEVENT
BEGIN:VEVENT
DTSTART;TZID=America/New_York:20241108T100000
DTEND;TZID=America/New_York:20241108T120000
DTSTAMP:20260422T181337
CREATED:20240812T171644Z
LAST-MODIFIED:20241007T162958Z
UID:17778-1731060000-1731067200@hospiceoforange.com
SUMMARY:5th Annual President's Address
DESCRIPTION:  \nPlease Join Us on Friday\, November 8\, 2024\, from 10:00 am – 12:00 pm at City Winery Hudson Valley for a complimentary brunch in appreciation of National Hospice and Palliative Care Month. \nThis year’s theme is Unveiling The Value of Hospice. Hospice of Orange & Sullivan Counties President and Chief Executive Officer\, Sandi Cassese RN\, MSN\, CNS\, NYS Assemblyman\, Brian Maher\, and Orange County IDA Chief Executive Officer\, Bill Fioravanti\, will share how Hospice makes our community stronger and how you and your organization can work with us to improve the lives of our fellow community members. \nReservations are required. Please RSVP by no later than October 30\, 2024 to ensure your seat. Reservations can be made by completing the form below\, emailing advancement@hospiceoforange.com\, or calling (845) 561-6111 and asking for an Advancement Team Member. \n  \n\n \n 
URL:https://hospiceoforange.com/event/5th-annual-presidents-address/
LOCATION:City Winery Hudson Valley\, 23 Factory Street\, Montgomery\, NY\, 12549\, United States
CATEGORIES:Special Events
ATTACH;FMTTYPE=image/jpeg:https://hospiceoforange.com/wp-content/uploads/2024/08/Presidents-Address-Flyer-Social-Media-scaled.jpg
END:VEVENT
BEGIN:VEVENT
DTSTART;VALUE=DATE:20241201
DTEND;VALUE=DATE:20250110
DTSTAMP:20260422T181337
CREATED:20241010T145121Z
LAST-MODIFIED:20241119T165122Z
UID:17863-1733011200-1736467199@hospiceoforange.com
SUMMARY:2024 Holiday Tree of Life
DESCRIPTION:Support Hospice of Orange & Sullivan Counties this holiday season by adding an ornament to the Holiday Tree of Life.\nContributions are made In Honor or In Memory of a friend or loved one. This special person’s name is displayed on a tree\, at the location of your choice\, throughout the holiday season. Your generous donation will help someone who is receiving Hospice end-of-life care or bereavement services in Orange and Sullivan Counties. All donations are tax-deductible. \nStar Ornament Options: \n∗Gold Star $100          ∗Silver Star $50          ∗White Star $20 \nClick here to purchase your star ornament(s).\nHospice volunteers will be available\, throughout the holiday season\, to accept donations and hang ornaments at the following locations: \nAdams Fairacre Farms\, 1240 NY-300\, Newburgh\, NY \nGalleria at Crystal Run\, 1 Galleria Drive\, Middletown\, NY \n  \nThank You To Our Sponsors!\nBehavioral Health Services of the Hudson Valley \nOrange & Rockland Utilities \nP&P Quick Copy Center \nUniversal Printing
URL:https://hospiceoforange.com/event/2024-holiday-tree-of-life/
CATEGORIES:Special Events
ATTACH;FMTTYPE=image/png:https://hospiceoforange.com/wp-content/uploads/2024/10/2024-HTOL-Logo.png
END:VEVENT
BEGIN:VEVENT
DTSTART;TZID=America/New_York:20250728T110000
DTEND;TZID=America/New_York:20250728T190000
DTSTAMP:20260422T181337
CREATED:20250527T165837Z
LAST-MODIFIED:20250602T201921Z
UID:18149-1753700400-1753729200@hospiceoforange.com
SUMMARY:18th Annual Golf Tournament!
DESCRIPTION:Tickets/Sponsorships/Advertising Sales OPEN! \nJoin us on the green for a day of fun\, friendly competition\, and community spirit at our annual golf tournament on July 28! \nTee off with a 12 PM shotgun start in a scramble-style format\, and enjoy a full day from 11 AM to 7 PM that includes lunch\, dinner\, and exciting prizes in every division. \nIndividual Golfer tickets are: $275/each; foursomes are: $1\,100. This event will sell out and it’s first come\, first swing—so don’t wait! Register today to secure your place in this fantastic summer event.
URL:https://hospiceoforange.com/event/18th-annual-golf-tournament/
LOCATION:The Powelton Club\, Balmville Road\, Newburgh\, 12550\, United States
CATEGORIES:Special Events
ATTACH;FMTTYPE=image/jpeg:https://hospiceoforange.com/wp-content/uploads/2025/05/hospice.jpg
END:VEVENT
BEGIN:VEVENT
DTSTART;TZID=America/New_York:20251105T090000
DTEND;TZID=America/New_York:20251105T103000
DTSTAMP:20260422T181337
CREATED:20250918T151959Z
LAST-MODIFIED:20251028T181152Z
UID:18209-1762333200-1762338600@hospiceoforange.com
SUMMARY:6th Annual Community Breakfast
DESCRIPTION:Join Us for the 6th Annual Community Breakfast \nHear inspiring stories from the families of our patients\, our staff\, volunteers\, and community members about the meaningful work we’ve accomplished this year. Together\, we will celebrate the compassion\, care\, and dignity that hospice brings to so many lives. \nModerated by Eric Gatsik\, President & CEO of Hospice of Orange & Sullivan Counties\, and Heather Bell-Meyer\, President & CEO of the Orange County Chamber of Commerce\, this uplifting event will shine a light on the people at the heart of our mission. \nThrough real stories and open conversation\, you’ll hear from those who provide and those who receive care every day—showcasing the lasting impact of hospice in our community. \nCome enjoy a complimentary breakfast\, meaningful dialogue\, and a chance to connect with others who believe in the power of care and compassion. \n📅 Wednesday\, November 5🕣 Registration begins at 8:30 AM🕘 Program runs 9:00 – 10:30 AM📍 The Barn at Villa Venezia\, 2278 Goshen Turnpike\, Middletown\, NY \n👉 Reserve your seat today: Click here to register
URL:https://hospiceoforange.com/event/6th-annual-community-breakfast/
CATEGORIES:Special Events
ATTACH;FMTTYPE=image/jpeg:https://hospiceoforange.com/wp-content/uploads/2025/09/HOSC-Community-Breakfast-Update-scaled.jpg
ORGANIZER;CN="Hospice of Orange & Sullivan Counties%2C Inc.":MAILTO:l.crevling@hospiceoforange.com
END:VEVENT
BEGIN:VEVENT
DTSTART;TZID=America/New_York:20251210T180000
DTEND;TZID=America/New_York:20251210T183000
DTSTAMP:20260422T181337
CREATED:20251120T181810Z
LAST-MODIFIED:20251124T153638Z
UID:18268-1765389600-1765391400@hospiceoforange.com
SUMMARY:The Holiday Tree of Life Tree Lighting
DESCRIPTION:Please Join Us for the Holiday Tree of Life Tree Lighting\n📅 Wednesday\, December 10🕣  6:00 PM📍 The Center Court of The Galleria at Crystal Run\, Middletown\, New York\n👉 Click here to tell us that you will join us!
URL:https://hospiceoforange.com/event/the-holiday-tree-of-life-tree-lighting/
LOCATION:The Galleria at Crystal Run\, 1 Galleria Drive\, Middletown\, New\, 10941
CATEGORIES:Special Events
ATTACH;FMTTYPE=image/jpeg:https://hospiceoforange.com/wp-content/uploads/2025/11/Tree-Lighting-flyer-HTOL-2025-v2.jpg
ORGANIZER;CN="Hospice of Orange & Sullivan Counties%2C Inc.":MAILTO:l.crevling@hospiceoforange.com
END:VEVENT
BEGIN:VEVENT
DTSTART;TZID=America/New_York:20260226T100000
DTEND;TZID=America/New_York:20260226T120000
DTSTAMP:20260422T181337
CREATED:20260106T174425Z
LAST-MODIFIED:20260218T225556Z
UID:18402-1772100000-1772107200@hospiceoforange.com
SUMMARY:Vietnam Era Veterans Gather to Make Beaded Keychains
DESCRIPTION:Vietnam Veterans are invited to join us for refreshments and community!  There is no charge to attend.  We hope to see you!
URL:https://hospiceoforange.com/event/18402/
LOCATION:Newburgh Armory Unity Center\, 321 S. William St\,\, Newburgh\, NY\, 12550\, United States
ORGANIZER;CN="Hospice of Orange & Sullivan Counties%2C Inc.":MAILTO:l.crevling@hospiceoforange.com
END:VEVENT
BEGIN:VEVENT
DTSTART;TZID=America/New_York:20260328T160000
DTEND;TZID=America/New_York:20260328T220000
DTSTAMP:20260422T181337
CREATED:20260226T203357Z
LAST-MODIFIED:20260325T212854Z
UID:18463-1774713600-1774735200@hospiceoforange.com
SUMMARY:New Windsor American Legion Post 1796 Pasta Dinner
DESCRIPTION:Announcing the famous New Windsor American Legion Pasta Dinner  – to benefit Hospice of Orange and Sullivan Counties! Join us by buying your homemade dinner at the door from 4 – 10 PM\, and enjoy two classic rock bands\, all on Saturday\, March 28 at 29 Walnut Street\, New Windsor\, NY 12553!
URL:https://hospiceoforange.com/event/https-host-nxt-blackbaud-com-registration-form-formid9fcb4c4a-d75f-4bbe-b2e7-7b786a1ddd40envidp-c-csmqzhseaqmwolbnvxhazoneusa/
CATEGORIES:Special Events
ORGANIZER;CN="Hospice of Orange & Sullivan Counties%2C Inc.":MAILTO:l.crevling@hospiceoforange.com
END:VEVENT
BEGIN:VEVENT
DTSTART;TZID=America/New_York:20260330T093000
DTEND;TZID=America/New_York:20260330T110000
DTSTAMP:20260422T181337
CREATED:20260218T225121Z
LAST-MODIFIED:20260304T210041Z
UID:18451-1774863000-1774868400@hospiceoforange.com
SUMMARY:Welcome Home Vietnam Veterans
DESCRIPTION:Please let us know that you are coming by clicking here!
URL:https://hospiceoforange.com/event/welcome-home-vietnam-veterans/
LOCATION:The Cornwall Yacht Club\, 175 Shore Rd\, Cornwall-on-Hudson\, NY\, United States
ORGANIZER;CN="Hospice of Orange & Sullivan Counties%2C Inc.":MAILTO:l.crevling@hospiceoforange.com
END:VEVENT
BEGIN:VEVENT
DTSTART;TZID=America/New_York:20260418T180000
DTEND;TZID=America/New_York:20260418T230000
DTSTAMP:20260422T181337
CREATED:20260212T174619Z
LAST-MODIFIED:20260412T171016Z
UID:18430-1776535200-1776553200@hospiceoforange.com
SUMMARY:A Legacy in Bloom Gala 2026
DESCRIPTION:We are delighted to invite you to join us to support Hospice of Orange & Sullivan’s largest annual fundraiser!  Saturday\, April 18 at West Hills Country Club in Middletown\, NY in Orange County! \nYour $300 per person ticket or your sponsorship ($25\,000 Diamond\, $15\,000 Platinum\, $10\,000 Gold\, $5\,000 Silver or $2\,500 Bronze) supports a glorious evening of sumptuous food and beverages\, great music\, fun activities\, and community connection in a heated tent overlooking a lush landscape in bloom.  These levels of giving\, or your gift in any amount\, support our mission and provide critical hospice services for patients and families in our communities and at The Kaplan Family Hospice Residence.\nBuy tickets\, an ad or sponsorship here!   We welcome your call for sponsorship level details and more information: (845) 561-6111 \n \n \nThomas and Janet Sullivan\n  \n \n  \n \n  \n \n  \n \n \n  \n \n  \n \n \n \n \n \nThe Naru Family\n  \n \n\n \n  \n  \n 
URL:https://hospiceoforange.com/event/a-legacy-in-bloom-gala-2026/
LOCATION:West Hills Country Club\, 121 Golf Links Road\, Middletown\, NY\, 10940\, United States
CATEGORIES:Special Events
ORGANIZER;CN="Hospice of Orange & Sullivan Counties%2C Inc.":MAILTO:l.crevling@hospiceoforange.com
END:VEVENT
END:VCALENDAR