BEGIN:VCALENDAR
VERSION:2.0
PRODID:-//Hospice of Orange &amp; Sullivan - ECPv6.15.20//NONSGML v1.0//EN
CALSCALE:GREGORIAN
METHOD:PUBLISH
X-ORIGINAL-URL:https://hospiceoforange.com
X-WR-CALDESC:Events for Hospice of Orange &amp; Sullivan
REFRESH-INTERVAL;VALUE=DURATION:PT1H
X-Robots-Tag:noindex
X-PUBLISHED-TTL:PT1H
BEGIN:VTIMEZONE
TZID:America/New_York
BEGIN:DAYLIGHT
TZOFFSETFROM:-0500
TZOFFSETTO:-0400
TZNAME:EDT
DTSTART:20210314T070000
END:DAYLIGHT
BEGIN:STANDARD
TZOFFSETFROM:-0400
TZOFFSETTO:-0500
TZNAME:EST
DTSTART:20211107T060000
END:STANDARD
BEGIN:DAYLIGHT
TZOFFSETFROM:-0500
TZOFFSETTO:-0400
TZNAME:EDT
DTSTART:20220313T070000
END:DAYLIGHT
BEGIN:STANDARD
TZOFFSETFROM:-0400
TZOFFSETTO:-0500
TZNAME:EST
DTSTART:20221106T060000
END:STANDARD
BEGIN:DAYLIGHT
TZOFFSETFROM:-0500
TZOFFSETTO:-0400
TZNAME:EDT
DTSTART:20230312T070000
END:DAYLIGHT
BEGIN:STANDARD
TZOFFSETFROM:-0400
TZOFFSETTO:-0500
TZNAME:EST
DTSTART:20231105T060000
END:STANDARD
END:VTIMEZONE
BEGIN:VEVENT
DTSTART;TZID=America/New_York:20220614T130000
DTEND;TZID=America/New_York:20220614T153000
DTSTAMP:20260424T033259
CREATED:20220502T152526Z
LAST-MODIFIED:20230113T154458Z
UID:15719-1655211600-1655220600@hospiceoforange.com
SUMMARY:HOSPICE of Orange & Sullivan Counties Veteran Celebration 2022
DESCRIPTION:HOSPICE of Orange and Sullivan Counties takes pride in caring for our veterans. We are recognized through the National Hospice and Palliative Care Organization (NHPCO) and the Veterans Administration (VA) as a top Level V partner in the We Honor Veterans Partnership. Through our dedication to our Veterans who served our country\, our staff continues to train to meet the veteran where they are and provide the individualized care they need. We believe it is never too late to thank a veteran\, and we do just that through our Veteran Volunteer Program and our Honor Recognition Program. \nHOSPICE of Orange & Sullivan Counties\, Inc. will be hosting a Veterans Celebration to honor and thank our veterans for their service to our country. \nThis free event for all Veterans will be on Tuesday\, June 14\, 2022\, at Thomas Bull Memorial Park: 211 Route 416\, Montgomery\, NY 12549\, from 1:00 pm – 3:30 pm. \nThe Veteran Celebration will include:\nFlavorHut Food Truck\nBaby Dahl’s Catering Truck\nThe Ice Mother & Sons Ice Cream Truck\nRight On Cue Productions & DJ Erick Santana \nHospice of Orange & Sullivan Counties\, Inc. acknowledges this event could not take place without our sponsors.\nThank You Sponsors\n \nCatholic War Veterans Post #386\, New Windsor\, NY\nCooley Group\, Inc. – Jackie McGowan\nDevil Dogs Decking & Construction\, LLC\nFoam and Wash Car Wash\nThe Grout Family\nHomestead Funding Corp.\nHoward Hanna Rand Realty- Diane M. Blanton\nThe Ingrassia Family\nJEFF BANK\nLakeland Bank\nErik Magnussen\n\nMarine Corps League Greater Newburgh Detachment #249 \nMD Property Preservation\, Inc.\nMid-Hudson Valley Federal Credit Union\nOppenheimer & Co. Inc.\nPatriotic Insurance Group – Rob Bowen\nPepsi Cola of the Hudson Valley\n\nREMAX/Benchmark Realty – Dan Clarino\nSchmidt’s Wholesale Inc.\nJoseph M. Sosler Associates\nTaconic Heating & Cooling Corp.\nThruway Nissan\n\nVerizon Wireless Zone\nVFW Post 1161 Town of Newburgh\, NY\n*Through the Poppy Fund\nWarwick Valley VFW Post 4662\nWest Point- Highland Falls Rotary Club\n YIT Foundation\, Inc.\n  \n 
URL:https://hospiceoforange.com/event/hospice-of-orange-sullivan-counties-veteran-celebration-2022/
LOCATION:Thomas Bull Memorial Park\, 211 NY-416\, Montgomery\, NY\, 12549\, United States
CATEGORIES:Special Events,Veteran Event
ATTACH;FMTTYPE=image/jpeg:https://hospiceoforange.com/wp-content/uploads/2022/04/SAVE-THE-DATE-CARD-2022.jpg
ORGANIZER;CN="Janice Valentino":MAILTO:janicev@hospiceoforange.com
END:VEVENT
END:VCALENDAR