BEGIN:VCALENDAR
VERSION:2.0
PRODID:-//Hospice of Orange &amp; Sullivan - ECPv6.15.20//NONSGML v1.0//EN
CALSCALE:GREGORIAN
METHOD:PUBLISH
X-WR-CALNAME:Hospice of Orange &amp; Sullivan
X-ORIGINAL-URL:https://hospiceoforange.com
X-WR-CALDESC:Events for Hospice of Orange &amp; Sullivan
REFRESH-INTERVAL;VALUE=DURATION:PT1H
X-Robots-Tag:noindex
X-PUBLISHED-TTL:PT1H
BEGIN:VTIMEZONE
TZID:America/New_York
BEGIN:DAYLIGHT
TZOFFSETFROM:-0500
TZOFFSETTO:-0400
TZNAME:EDT
DTSTART:20230312T070000
END:DAYLIGHT
BEGIN:STANDARD
TZOFFSETFROM:-0400
TZOFFSETTO:-0500
TZNAME:EST
DTSTART:20231105T060000
END:STANDARD
BEGIN:DAYLIGHT
TZOFFSETFROM:-0500
TZOFFSETTO:-0400
TZNAME:EDT
DTSTART:20240310T070000
END:DAYLIGHT
BEGIN:STANDARD
TZOFFSETFROM:-0400
TZOFFSETTO:-0500
TZNAME:EST
DTSTART:20241103T060000
END:STANDARD
BEGIN:DAYLIGHT
TZOFFSETFROM:-0500
TZOFFSETTO:-0400
TZNAME:EDT
DTSTART:20250309T070000
END:DAYLIGHT
BEGIN:STANDARD
TZOFFSETFROM:-0400
TZOFFSETTO:-0500
TZNAME:EST
DTSTART:20251102T060000
END:STANDARD
END:VTIMEZONE
BEGIN:VEVENT
DTSTART;TZID=America/New_York:20241024T173000
DTEND;TZID=America/New_York:20241024T213000
DTSTAMP:20260420T000804
CREATED:20240514T180952Z
LAST-MODIFIED:20241024T172932Z
UID:17606-1729791000-1729805400@hospiceoforange.com
SUMMARY:9th Annual Witch Hat Party
DESCRIPTION:Hospice of Orange & Sullivan Counties is excited to announce its 9th Annual Witch Hat Party to be held on Thursday\, October 24\, at The Powelton Club in Newburgh.\nClick here to view the event package. \nContact the Advancement Department at advancement@hospiceoforange.com if interested in tickets.\nTicket Includes: Buffet dinner\, glass of wine\, group reading with a medium. \nEvent Includes: 50/50 raffle\, door prizes\, silent auction\, and more fun throughout the evening! \nPrizes for the Best Hat or Best Fascinator and Spirit Award for Group with Most Spirit! \nFirst come\, first serve. Registration is limited to 185. RSVP by October 1\, 2024. \nFor more information on sponsorship opportunities\, event registration\, raffles\, and more\, please contact the Advancement Department at (845) 561-6111 or advancement@hospiceoforange.com \nDress Code: No jeans are permitted at The Powelton Club.\nThank You to Our Sponsors!\nAlexis Diner \nBehavioral Health Services of the Hudson Valley \nDreyer Law \nHomestead Funding Corp \nKaren Taphorn\, Rand Realty \nLoBiondo Law \nMadeline’s Room Balloon & Event Decorating Salon \nO’Keefe & McCann\, LLP \nOppenheimer & Co.\, Inc. \nRider\, Weiner\, & Frankel \nSummer Set Properties \nKaren Taphorn\, Rand Realty \nTaylor Montgomery\, LLC
URL:https://hospiceoforange.com/event/9th-annual-witch-hat-party/
LOCATION:The Powelton Club\, Balmville Road\, Newburgh\, 12550\, United States
CATEGORIES:Special Events
ATTACH;FMTTYPE=image/png:https://hospiceoforange.com/wp-content/uploads/2024/05/2024-WHP-Cover-Image.png
END:VEVENT
END:VCALENDAR