BEGIN:VCALENDAR
VERSION:2.0
PRODID:-//Hospice of Orange &amp; Sullivan - ECPv6.15.20//NONSGML v1.0//EN
CALSCALE:GREGORIAN
METHOD:PUBLISH
X-ORIGINAL-URL:https://hospiceoforange.com
X-WR-CALDESC:Events for Hospice of Orange &amp; Sullivan
REFRESH-INTERVAL;VALUE=DURATION:PT1H
X-Robots-Tag:noindex
X-PUBLISHED-TTL:PT1H
BEGIN:VTIMEZONE
TZID:America/New_York
BEGIN:DAYLIGHT
TZOFFSETFROM:-0500
TZOFFSETTO:-0400
TZNAME:EDT
DTSTART:20230312T070000
END:DAYLIGHT
BEGIN:STANDARD
TZOFFSETFROM:-0400
TZOFFSETTO:-0500
TZNAME:EST
DTSTART:20231105T060000
END:STANDARD
BEGIN:DAYLIGHT
TZOFFSETFROM:-0500
TZOFFSETTO:-0400
TZNAME:EDT
DTSTART:20240310T070000
END:DAYLIGHT
BEGIN:STANDARD
TZOFFSETFROM:-0400
TZOFFSETTO:-0500
TZNAME:EST
DTSTART:20241103T060000
END:STANDARD
BEGIN:DAYLIGHT
TZOFFSETFROM:-0500
TZOFFSETTO:-0400
TZNAME:EDT
DTSTART:20250309T070000
END:DAYLIGHT
BEGIN:STANDARD
TZOFFSETFROM:-0400
TZOFFSETTO:-0500
TZNAME:EST
DTSTART:20251102T060000
END:STANDARD
END:VTIMEZONE
BEGIN:VEVENT
DTSTART;TZID=America/New_York:20240510T123000
DTEND;TZID=America/New_York:20240510T133000
DTSTAMP:20260422T075909
CREATED:20240328T132616Z
LAST-MODIFIED:20240328T132656Z
UID:17423-1715344200-1715347800@hospiceoforange.com
SUMMARY:Lunch & Learn Webinar: How Hospice Cares For The Mental Health of Veterans At End-of-Life
DESCRIPTION:  \nHospice of Orange & Sullivan Counties is partnering with other Level 5 We Honor Veteran partners in educating peers regarding how hospice cares for the mental health of Veterans at the end of their life. \nClick here to register. \nPanelists:\nVictoria Ring\, MSW\, Veterans Services Coordinator at NHPCO\nTeresa Holstein\, Senior Vice President & COO at Hudson Valley Hospice\nNisha Manglani\, Director of Psychosocial Services at Hudson Valley Hospice\nAshton Stewart\, Veteran Liaison & Cultural Sensitivity Outreach Coordinator at Metropolitan Jewish Hospice Services and United States Navy Operation Desert Shield\nToby Weiss\, Assistant Vice President of Cultural Diversity at Metropolitan Jewish Hospice Services\nJanette Grainger\, LMSW\, Hospice & Palliative Care Social Worker at Chenango Hospice\nSarah Green\, Director of Volunteer & Outreach at Chenango Hospice\nLacy Rugaber\, BSN\, RN\, CHPN\, CCM\, Clinical Manager at Hospice of Orange & Sullivan Counties and United States Army Operation Freedom’s Sentinel\nKim Warner\, LCSW\, ACHP-SW\, Director of Social Work & Bereavement at Hospice of Orange & Sullivan Counties \n  \nFor more information\, please contact the Hospice of Orange & Sullivan Counties Advancement Department at 845-561-6111 or advancement@hospiceoforange.com
URL:https://hospiceoforange.com/event/lunch-learn-webinar-how-hospice-cares-for-the-mental-health-of-veterans-at-end-of-life/
LOCATION:Zoom
CATEGORIES:Special Events,Veteran Event
ATTACH;FMTTYPE=image/png:https://hospiceoforange.com/wp-content/uploads/2024/03/Webinar-Topic-Pic.png
END:VEVENT
END:VCALENDAR