BEGIN:VCALENDAR
VERSION:2.0
PRODID:-//Hospice of Orange &amp; Sullivan - ECPv6.15.20//NONSGML v1.0//EN
CALSCALE:GREGORIAN
METHOD:PUBLISH
X-WR-CALNAME:Hospice of Orange &amp; Sullivan
X-ORIGINAL-URL:https://hospiceoforange.com
X-WR-CALDESC:Events for Hospice of Orange &amp; Sullivan
REFRESH-INTERVAL;VALUE=DURATION:PT1H
X-Robots-Tag:noindex
X-PUBLISHED-TTL:PT1H
BEGIN:VTIMEZONE
TZID:America/New_York
BEGIN:DAYLIGHT
TZOFFSETFROM:-0500
TZOFFSETTO:-0400
TZNAME:EDT
DTSTART:20220313T070000
END:DAYLIGHT
BEGIN:STANDARD
TZOFFSETFROM:-0400
TZOFFSETTO:-0500
TZNAME:EST
DTSTART:20221106T060000
END:STANDARD
BEGIN:DAYLIGHT
TZOFFSETFROM:-0500
TZOFFSETTO:-0400
TZNAME:EDT
DTSTART:20230312T070000
END:DAYLIGHT
BEGIN:STANDARD
TZOFFSETFROM:-0400
TZOFFSETTO:-0500
TZNAME:EST
DTSTART:20231105T060000
END:STANDARD
BEGIN:DAYLIGHT
TZOFFSETFROM:-0500
TZOFFSETTO:-0400
TZNAME:EDT
DTSTART:20240310T070000
END:DAYLIGHT
BEGIN:STANDARD
TZOFFSETFROM:-0400
TZOFFSETTO:-0500
TZNAME:EST
DTSTART:20241103T060000
END:STANDARD
BEGIN:DAYLIGHT
TZOFFSETFROM:-0500
TZOFFSETTO:-0400
TZNAME:EDT
DTSTART:20250309T070000
END:DAYLIGHT
BEGIN:STANDARD
TZOFFSETFROM:-0400
TZOFFSETTO:-0500
TZNAME:EST
DTSTART:20251102T060000
END:STANDARD
END:VTIMEZONE
BEGIN:VEVENT
DTSTART;VALUE=DATE:20231201
DTEND;VALUE=DATE:20240112
DTSTAMP:20260422T175345
CREATED:20231102T142757Z
LAST-MODIFIED:20231128T153506Z
UID:17201-1701388800-1705017599@hospiceoforange.com
SUMMARY:2023 Holiday Tree of Life
DESCRIPTION:Support Hospice of Orange & Sullivan Counties this holiday season by adding an ornament to the Holiday Tree of Life.\nContributions are made In Honor or In Memory of a friend or loved one. This special person’s name is displayed on a tree\, at the location of your choice\, throughout the holiday season. Your generous donation will help someone who is receiving Hospice end-of-life care or bereavement services in Orange and Sullivan Counties. All donations are tax-deductible. \nStar Ornament Options: \n∗Gold Star $100          ∗Silver Star $50          ∗White Star $20 \nClick here to purchase your star ornament(s). \nHospice volunteers will be available\, throughout the holiday season\, to accept donations and hang ornaments at the following locations: \nAdams Fairacre Farms\, 1240 NY-300\, Newburgh\, NY \nGalleria at Crystal Run\, 1 Galleria Drive\, Middletown\, NY \nPeck’s Marketplace Callicoon\, 9 Lower Main Street\, Callicoon\, NY \nPeck’s Marketplace Eldred\, 9 Proctor Road\, Eldred\, NY \nPeck’s Marketplace Jeffersonville\, 4899 State Route 52\, Jeffersonville\, NY \nPeck’s Marketplace Livingston Manor\, 29 Main Street\, Livingston Manor\, NY \nThank You To Our Sponsors!\nBehavioral Health Services of the Hudson Valley \nP&P Quick Copy Center
URL:https://hospiceoforange.com/event/2023-holiday-tree-of-life/
LOCATION:Hospice of Orange & Sullivan Counties\, Inc.\, 800 Stony Brook Ct.\, Newburgh\, NY\, 12550\, United States
CATEGORIES:Special Events
ATTACH;FMTTYPE=image/png:https://hospiceoforange.com/wp-content/uploads/2023/11/2023-Holiday-Tree-of-Life.png
END:VEVENT
END:VCALENDAR