BEGIN:VCALENDAR
VERSION:2.0
PRODID:-//Hospice of Orange &amp; Sullivan - ECPv6.15.20//NONSGML v1.0//EN
CALSCALE:GREGORIAN
METHOD:PUBLISH
X-WR-CALNAME:Hospice of Orange &amp; Sullivan
X-ORIGINAL-URL:https://hospiceoforange.com
X-WR-CALDESC:Events for Hospice of Orange &amp; Sullivan
REFRESH-INTERVAL;VALUE=DURATION:PT1H
X-Robots-Tag:noindex
X-PUBLISHED-TTL:PT1H
BEGIN:VTIMEZONE
TZID:America/New_York
BEGIN:DAYLIGHT
TZOFFSETFROM:-0500
TZOFFSETTO:-0400
TZNAME:EDT
DTSTART:20220313T070000
END:DAYLIGHT
BEGIN:STANDARD
TZOFFSETFROM:-0400
TZOFFSETTO:-0500
TZNAME:EST
DTSTART:20221106T060000
END:STANDARD
BEGIN:DAYLIGHT
TZOFFSETFROM:-0500
TZOFFSETTO:-0400
TZNAME:EDT
DTSTART:20230312T070000
END:DAYLIGHT
BEGIN:STANDARD
TZOFFSETFROM:-0400
TZOFFSETTO:-0500
TZNAME:EST
DTSTART:20231105T060000
END:STANDARD
BEGIN:DAYLIGHT
TZOFFSETFROM:-0500
TZOFFSETTO:-0400
TZNAME:EDT
DTSTART:20240310T070000
END:DAYLIGHT
BEGIN:STANDARD
TZOFFSETFROM:-0400
TZOFFSETTO:-0500
TZNAME:EST
DTSTART:20241103T060000
END:STANDARD
END:VTIMEZONE
BEGIN:VEVENT
DTSTART;TZID=America/New_York:20230807T110000
DTEND;TZID=America/New_York:20230807T190000
DTSTAMP:20260423T010233
CREATED:20230213T201231Z
LAST-MODIFIED:20230804T154539Z
UID:16557-1691406000-1691434800@hospiceoforange.com
SUMMARY:16th Annual Golf Classic
DESCRIPTION:Hospice of Orange & Sullivan Counties\, Inc. will host it’s 16th Annual Golf Classic on Monday\, August 7\, 2023\, at The Powelton Club in Newburgh.\nAs most of you know\, the Hospice golf classic is highly anticipated and fills up very quickly\, so golfers are encouraged to register early! It is first come\, first serve with a limit of 112 golfers. \nThe cost to play is $275.00 per golfer\, or $1\,100.00 for a foursome\, and golfers will play scramble format.  There will be prizes for each division.  Registration begins at 11:00am\, followed with a barbecue lunch\, and Shotgun Start is at 12:00pm.  After golf\, cocktail style dining and open bar begins at 5:30pm\, and the awards presentations and raffle drawing will be at 7:00pm. \nOur famous $25\,000 raffle will follow dinner with ten prize winners to be drawn\, including a $10\,000 winner!  Tickets are $100.00 per ticket. A maximum of 600 tickets will be sold. Need not be present to win. \nDinner only reservations are also available for $100.00 per ticket. \nFor more information regarding sponsorship opportunities\, golfer registration\, purchase a raffle ticket\, or have any additional questions\, please contact Advancement Department at  advancement@hospiceoforange.com or call (845) 561-6111. \nWe look forward to seeing you on the course! \n  \nThank You to Our Donors and Sponsors!
URL:https://hospiceoforange.com/event/16th-annual-golf-classic/
LOCATION:The Powelton Club\, Balmville Road\, Newburgh\, 12550\, United States
CATEGORIES:Special Events
ATTACH;FMTTYPE=image/jpeg:https://hospiceoforange.com/wp-content/uploads/2023/02/2022-Golf-Outing-Group-Picture-scaled.jpg
END:VEVENT
END:VCALENDAR