BEGIN:VCALENDAR
VERSION:2.0
PRODID:-//Hospice of Orange &amp; Sullivan - ECPv6.15.20//NONSGML v1.0//EN
CALSCALE:GREGORIAN
METHOD:PUBLISH
X-ORIGINAL-URL:https://hospiceoforange.com
X-WR-CALDESC:Events for Hospice of Orange &amp; Sullivan
REFRESH-INTERVAL;VALUE=DURATION:PT1H
X-Robots-Tag:noindex
X-PUBLISHED-TTL:PT1H
BEGIN:VTIMEZONE
TZID:America/New_York
BEGIN:DAYLIGHT
TZOFFSETFROM:-0500
TZOFFSETTO:-0400
TZNAME:EDT
DTSTART:20220313T070000
END:DAYLIGHT
BEGIN:STANDARD
TZOFFSETFROM:-0400
TZOFFSETTO:-0500
TZNAME:EST
DTSTART:20221106T060000
END:STANDARD
BEGIN:DAYLIGHT
TZOFFSETFROM:-0500
TZOFFSETTO:-0400
TZNAME:EDT
DTSTART:20230312T070000
END:DAYLIGHT
BEGIN:STANDARD
TZOFFSETFROM:-0400
TZOFFSETTO:-0500
TZNAME:EST
DTSTART:20231105T060000
END:STANDARD
BEGIN:DAYLIGHT
TZOFFSETFROM:-0500
TZOFFSETTO:-0400
TZNAME:EDT
DTSTART:20240310T070000
END:DAYLIGHT
BEGIN:STANDARD
TZOFFSETFROM:-0400
TZOFFSETTO:-0500
TZNAME:EST
DTSTART:20241103T060000
END:STANDARD
END:VTIMEZONE
BEGIN:VEVENT
DTSTART;TZID=America/New_York:20230710T110000
DTEND;TZID=America/New_York:20230710T120000
DTSTAMP:20260423T030404
CREATED:20230620T164037Z
LAST-MODIFIED:20230620T164317Z
UID:16919-1688986800-1688990400@hospiceoforange.com
SUMMARY:FREE Advance Directive Information Session
DESCRIPTION:Join Us at The Goshen Public Library\nJuly 10 at 11:00am\nto learn about the importance of Advance Directives.\nHospice of Orange  & Sullivan Counties will be speaking to the community about the crucial significance of Advance Directives and making your healthcare wishes known in advance\, ensuring that your voice is heard when you may not be able to speak for yourself. Don’t miss this opportunity to learn about making informed decisions regarding your medical care and the peace of mind it can bring. Mark your calendars and invite your friends and family to join these FREE informative sessions. \nFor more information please call us at 845-561-6111\, or email advancement@hospiceoforange.com
URL:https://hospiceoforange.com/event/16919/
LOCATION:Goshen Library\, 366 Main Street\, Goshen\, 10924\, United States
CATEGORIES:Special Events
ATTACH;FMTTYPE=image/png:https://hospiceoforange.com/wp-content/uploads/2023/06/Advance-Directive-Iamge-just-info.png
END:VEVENT
BEGIN:VEVENT
DTSTART;TZID=America/New_York:20230724T180000
DTEND;TZID=America/New_York:20230724T190000
DTSTAMP:20260423T030404
CREATED:20230620T164203Z
LAST-MODIFIED:20230620T164331Z
UID:16922-1690221600-1690225200@hospiceoforange.com
SUMMARY:FREE Advance Directive Information Session
DESCRIPTION:Join Us at The Goshen Public Library\nJuly 24 at 6:00pm\nto learn about the importance of Advance Directives.\nHospice of Orange  & Sullivan Counties will be speaking to the community about the crucial significance of Advance Directives and making your healthcare wishes known in advance\, ensuring that your voice is heard when you may not be able to speak for yourself. Don’t miss this opportunity to learn about making informed decisions regarding your medical care and the peace of mind it can bring. Mark your calendars and invite your friends and family to join these FREE informative sessions. \nFor more information please call us at 845-561-6111\, or email advancement@hospiceoforange.com
URL:https://hospiceoforange.com/event/hospice-of-orange-sullivan-counties-free-advance-directive-information-session/
LOCATION:Goshen Library\, 366 Main Street\, Goshen\, 10924\, United States
CATEGORIES:Special Events
ATTACH;FMTTYPE=image/png:https://hospiceoforange.com/wp-content/uploads/2023/06/Advance-Directive-Iamge-just-info.png
END:VEVENT
END:VCALENDAR