BEGIN:VCALENDAR
VERSION:2.0
PRODID:-//Hospice of Orange &amp; Sullivan - ECPv6.15.20//NONSGML v1.0//EN
CALSCALE:GREGORIAN
METHOD:PUBLISH
X-WR-CALNAME:Hospice of Orange &amp; Sullivan
X-ORIGINAL-URL:https://hospiceoforange.com
X-WR-CALDESC:Events for Hospice of Orange &amp; Sullivan
REFRESH-INTERVAL;VALUE=DURATION:PT1H
X-Robots-Tag:noindex
X-PUBLISHED-TTL:PT1H
BEGIN:VTIMEZONE
TZID:America/New_York
BEGIN:DAYLIGHT
TZOFFSETFROM:-0500
TZOFFSETTO:-0400
TZNAME:EDT
DTSTART:20220313T070000
END:DAYLIGHT
BEGIN:STANDARD
TZOFFSETFROM:-0400
TZOFFSETTO:-0500
TZNAME:EST
DTSTART:20221106T060000
END:STANDARD
BEGIN:DAYLIGHT
TZOFFSETFROM:-0500
TZOFFSETTO:-0400
TZNAME:EDT
DTSTART:20230312T070000
END:DAYLIGHT
BEGIN:STANDARD
TZOFFSETFROM:-0400
TZOFFSETTO:-0500
TZNAME:EST
DTSTART:20231105T060000
END:STANDARD
BEGIN:DAYLIGHT
TZOFFSETFROM:-0500
TZOFFSETTO:-0400
TZNAME:EDT
DTSTART:20240310T070000
END:DAYLIGHT
BEGIN:STANDARD
TZOFFSETFROM:-0400
TZOFFSETTO:-0500
TZNAME:EST
DTSTART:20241103T060000
END:STANDARD
END:VTIMEZONE
BEGIN:VEVENT
DTSTART;TZID=America/New_York:20230422T180000
DTEND;TZID=America/New_York:20230422T230000
DTSTAMP:20260423T091835
CREATED:20230119T205047Z
LAST-MODIFIED:20230426T150658Z
UID:16498-1682186400-1682204400@hospiceoforange.com
SUMMARY:2023 Annual Gala Honoring Daniel Grady
DESCRIPTION:Hospice of Orange & Sullivan Counties is delighted to honor Daniel Grady for his 34 years of dedication\, commitment\, and service at this year’s Annual Gala. \n \nClick here to make a donation. \nOur Annual Gala will take place on Saturday\, April 22\, 2023\, from 6:00 – 11:00pm at West Hills Country Club\, Middletown\, NY. This highly anticipated night includes cocktails and hors d’oeuvres\, followed by the finest dining\, dancing\, premium auction prizes\, and 50/50 raffle. \nThere are a variety of opportunities available to support the event. Such as\, purchasing a sponsorship or ticket(s)\, placing an ad to congratulate Dan\, or making a donation. We are also pre selling 50/50 raffle tickets\, contact Maggie Sutter at (845) 561-6111 or m.sutter@hospiceoforange.com for more information. \n\n$40.00 per ticket\, max 600 tickets sold. Drawing to be held at the gala in Saturday\, April 22\, 2023\, at West Hills Country Club in Middletown\, NY. You need not be present to win. Winner will receive 50% of the total amount raised from all ticket sales. Hospice guarantees that the 50% share will not be less than $1\,000.\nIf you are interested in supporting the event or have any questions\, please contact Maggie Sutter at (845) 561-6111 or m.sutter@hospiceoforange.com. \nWe hope you will join us in honoring this extraordinary man and his legacy by supporting the event. Thank you in advance for recognizing the importance of our work and allowing us to continue our legacy of caring for Orange and Sullivan County residents and their families when they need us most. \nOur Annual Gala allows us to continue our mission “to be the leading community resource for providing patients and their families with compassionate physical\, emotional\, and spiritual end-of-life care\, with comfort\, dignity\, and respect” by raising funds to provide Hospice Services within the community and at The Kaplan Family Hospice Residence. \n \nThank You to Our Sponsors\nA. Vincent Mazzie & Oppenheimer & Co.\, Inc. \nThe Barton Family \nLaurel Bertram and Howard Siegel \nDr. Robert Dinsmore \nFriends of Hospice \nHorizon Family Medical Group \nKiewit Foundation \nLakeland Bank \nMontefiore St. Luke’s Cornwall \nResorts World Catskill \nTom and Janet Sullivan \nSmith\, Seaman\, and Quackenbush\, Inc. Funeral Home \nWilliam F. Hogan Funeral Home
URL:https://hospiceoforange.com/event/2023-annual-gala/
LOCATION:West Hills Country Club\, 121 Golf Links Road\, Middletown\, NY\, 10940\, United States
CATEGORIES:Special Events
ATTACH;FMTTYPE=image/jpeg:https://hospiceoforange.com/wp-content/uploads/2023/01/2023-Gala-Logo.jpg
END:VEVENT
END:VCALENDAR