BEGIN:VCALENDAR
VERSION:2.0
PRODID:-//Hospice of Orange &amp; Sullivan - ECPv6.15.20//NONSGML v1.0//EN
CALSCALE:GREGORIAN
METHOD:PUBLISH
X-ORIGINAL-URL:https://hospiceoforange.com
X-WR-CALDESC:Events for Hospice of Orange &amp; Sullivan
REFRESH-INTERVAL;VALUE=DURATION:PT1H
X-Robots-Tag:noindex
X-PUBLISHED-TTL:PT1H
BEGIN:VTIMEZONE
TZID:America/New_York
BEGIN:DAYLIGHT
TZOFFSETFROM:-0500
TZOFFSETTO:-0400
TZNAME:EDT
DTSTART:20210314T070000
END:DAYLIGHT
BEGIN:STANDARD
TZOFFSETFROM:-0400
TZOFFSETTO:-0500
TZNAME:EST
DTSTART:20211107T060000
END:STANDARD
BEGIN:DAYLIGHT
TZOFFSETFROM:-0500
TZOFFSETTO:-0400
TZNAME:EDT
DTSTART:20220313T070000
END:DAYLIGHT
BEGIN:STANDARD
TZOFFSETFROM:-0400
TZOFFSETTO:-0500
TZNAME:EST
DTSTART:20221106T060000
END:STANDARD
BEGIN:DAYLIGHT
TZOFFSETFROM:-0500
TZOFFSETTO:-0400
TZNAME:EDT
DTSTART:20230312T070000
END:DAYLIGHT
BEGIN:STANDARD
TZOFFSETFROM:-0400
TZOFFSETTO:-0500
TZNAME:EST
DTSTART:20231105T060000
END:STANDARD
END:VTIMEZONE
BEGIN:VEVENT
DTSTART;TZID=America/New_York:20221019T173000
DTEND;TZID=America/New_York:20221019T210000
DTSTAMP:20260423T215521
CREATED:20220718T172256Z
LAST-MODIFIED:20230113T154535Z
UID:10120-1666200600-1666213200@hospiceoforange.com
SUMMARY:7th Annual Witch Hat Party
DESCRIPTION:Join Friends of Hospice at the 7th Annual Witch Hat Party!\nWednesday\, October 19\, 2022 • 5:30 – 9pm at The Powelton Club\, 29 Balmville Road\, Newburgh\, NY. \nWitch or Warlock: $60 per person \nTickets include:\nBuffet dinner\, glass of wine\, tarot card reading or group reading with a medium\, 50/50 raffle\, and silent auction.\nPrizes for the Best Hat and Best Fascinator and Spirit Award for group with best hats. \nGuests include: \nRenowned Intuitive Medium\, Deborah Hanlon\nTarot Card Readers including: Bernadette Montana \nDue to limited seating\, please contact Maggie Sutter directly to reserve your seat at (845) 561-6111 or m.sutter@hospiceoforange.com\n\n  \nDress Code: Guests are required to wear proper attire at all times. No jeans permitted in the club.\nDonations and Sponsor opportunities are welcomed. Please contact Hospice of Orange & Sullivan Counties\, Inc. Advancement Department\, Adrienne Spencer at (845) 561-6111 for more information. \n  \nThank You To Our Sponsors\nAmerican Legion Post 1796\nElla M. Pizzute\nHomestead Funding Corp.\nJim and Eileen Taylor\nMarlene Stang\nMichele Winchester-Vega\nO’Keefe & McCann\, LLP\nTaylor Montgomery\, LLC\nWilliam and Elaine Kaplan Family Private\nWorld Wide travel of Cornwall\, Inc.\nZygmunt-Murtie Memorials\, LLC
URL:https://hospiceoforange.com/event/7th-annual-witch-hat-party/
LOCATION:The Powelton Club\, Balmville Road\, Newburgh\, 12550\, United States
CATEGORIES:Special Events
ATTACH;FMTTYPE=image/jpeg:https://hospiceoforange.com/wp-content/uploads/2022/07/MicrosoftTeams-image-1.jpg
END:VEVENT
END:VCALENDAR