BEGIN:VCALENDAR
VERSION:2.0
PRODID:-//Hospice of Orange &amp; Sullivan - ECPv6.15.20//NONSGML v1.0//EN
CALSCALE:GREGORIAN
METHOD:PUBLISH
X-WR-CALNAME:Hospice of Orange &amp; Sullivan
X-ORIGINAL-URL:https://hospiceoforange.com
X-WR-CALDESC:Events for Hospice of Orange &amp; Sullivan
REFRESH-INTERVAL;VALUE=DURATION:PT1H
X-Robots-Tag:noindex
X-PUBLISHED-TTL:PT1H
BEGIN:VTIMEZONE
TZID:America/New_York
BEGIN:DAYLIGHT
TZOFFSETFROM:-0500
TZOFFSETTO:-0400
TZNAME:EDT
DTSTART:20210314T070000
END:DAYLIGHT
BEGIN:STANDARD
TZOFFSETFROM:-0400
TZOFFSETTO:-0500
TZNAME:EST
DTSTART:20211107T060000
END:STANDARD
BEGIN:DAYLIGHT
TZOFFSETFROM:-0500
TZOFFSETTO:-0400
TZNAME:EDT
DTSTART:20220313T070000
END:DAYLIGHT
BEGIN:STANDARD
TZOFFSETFROM:-0400
TZOFFSETTO:-0500
TZNAME:EST
DTSTART:20221106T060000
END:STANDARD
BEGIN:DAYLIGHT
TZOFFSETFROM:-0500
TZOFFSETTO:-0400
TZNAME:EDT
DTSTART:20230312T070000
END:DAYLIGHT
BEGIN:STANDARD
TZOFFSETFROM:-0400
TZOFFSETTO:-0500
TZNAME:EST
DTSTART:20231105T060000
END:STANDARD
END:VTIMEZONE
BEGIN:VEVENT
DTSTART;TZID=America/New_York:20220901T100000
DTEND;TZID=America/New_York:20220914T000000
DTSTAMP:20260423T231048
CREATED:20220804T213017Z
LAST-MODIFIED:20230113T154538Z
UID:15981-1662026400-1663113600@hospiceoforange.com
SUMMARY:15th Annual Mum sale
DESCRIPTION:The 15th Annual Friends of Hospice Mum Sale is underway! \nClick here to order your mums today! \nThe last day to order is Tuesday\, September 13\, 2022. \nPick up will be on Friday\, September 16\, from 10:00am to 3:00pm\, at your choice of one of our two locations: Hospice of Orange & Sullivan Counties’ Administrative Office\, 800 Stony Brook Court\, Newburgh\, NY\, 12550\, or Bernie’s Holiday Restaurant\, 277 Rock Hill Drive\, Rock Hill\, NY\, 12775.
URL:https://hospiceoforange.com/event/15th-annual-mum-sale/
LOCATION:Hospice of Orange & Sullivan Counties\, Inc.\, 800 Stony Brook Ct.\, Newburgh\, NY\, 12550\, United States
CATEGORIES:Special Events
ATTACH;FMTTYPE=image/png:https://hospiceoforange.com/wp-content/uploads/2022/08/Mum-Sale-Save-the-Date-1.png
END:VEVENT
END:VCALENDAR