BEGIN:VCALENDAR
VERSION:2.0
PRODID:-//Hospice of Orange &amp; Sullivan - ECPv6.15.20//NONSGML v1.0//EN
CALSCALE:GREGORIAN
METHOD:PUBLISH
X-WR-CALNAME:Hospice of Orange &amp; Sullivan
X-ORIGINAL-URL:https://hospiceoforange.com
X-WR-CALDESC:Events for Hospice of Orange &amp; Sullivan
REFRESH-INTERVAL;VALUE=DURATION:PT1H
X-Robots-Tag:noindex
X-PUBLISHED-TTL:PT1H
BEGIN:VTIMEZONE
TZID:America/New_York
BEGIN:DAYLIGHT
TZOFFSETFROM:-0500
TZOFFSETTO:-0400
TZNAME:EDT
DTSTART:20210314T070000
END:DAYLIGHT
BEGIN:STANDARD
TZOFFSETFROM:-0400
TZOFFSETTO:-0500
TZNAME:EST
DTSTART:20211107T060000
END:STANDARD
BEGIN:DAYLIGHT
TZOFFSETFROM:-0500
TZOFFSETTO:-0400
TZNAME:EDT
DTSTART:20220313T070000
END:DAYLIGHT
BEGIN:STANDARD
TZOFFSETFROM:-0400
TZOFFSETTO:-0500
TZNAME:EST
DTSTART:20221106T060000
END:STANDARD
BEGIN:DAYLIGHT
TZOFFSETFROM:-0500
TZOFFSETTO:-0400
TZNAME:EDT
DTSTART:20230312T070000
END:DAYLIGHT
BEGIN:STANDARD
TZOFFSETFROM:-0400
TZOFFSETTO:-0500
TZNAME:EST
DTSTART:20231105T060000
END:STANDARD
END:VTIMEZONE
BEGIN:VEVENT
DTSTART;TZID=America/New_York:20220808T110000
DTEND;TZID=America/New_York:20220808T193000
DTSTAMP:20260424T003348
CREATED:20220505T182334Z
LAST-MODIFIED:20230213T201042Z
UID:15751-1659956400-1659987000@hospiceoforange.com
SUMMARY:15th Annual Golf Classic
DESCRIPTION:Hospice of Orange & Sullivan Counties\, Inc. is pleased to host it’s 15th Annual Golf Classic on Monday\, August 8\, 2022\, at The Powelton Club in Newburgh.\nAs most of you know\, the Hospice golf classic is highly anticipated and fills up very quickly\, so golfers are encouraged to register early! It is first come\, first serve with a limit of 112 golfers. We are currently old out of foursomes. Contact Maggie Sutter to join the waiting list. \nThe cost to play is $275.00 per golfer\, or $1\,100.00 for a foursome\, and golfers will play scramble format.  There will be prizes for each division.  Registration begins at 11:00 am\, followed with a barbecue lunch at 11:00\, and Shotgun Start is at 12:00 pm.  After golf\, cocktail style dining and open bar begins at 5:30 pm\, and the awards presentations and raffle drawing will be at 7:00 pm. \nOur famous $25\,000 raffle will follow dinner with ten prize winners to be drawn\, including a $10\,000 winner!  Tickets are $100.00 per ticket. A maximum of 600 tickets will be sold. Need not be present to win. \nDinner only reservations are also available for $100.00 per ticket. \nWe are currently sold out of golfer spots.\nPlease contact Maggie Sutter to join our waiting list at (845) 561-6111 or m.sutter@hospiceoforange.com\nThere’s still time to support the event through a sponsorship\, raffle ticket purchase or donating an item for our golfer giveaway. \nClick here to generously sponsor this event.\nSponsorship Deadline is July 8\, 2022. \n  \nFor more information regarding sponsorship opportunities\, golfer registration\, purchase a raffle ticket\, or have any additional questions\, please contact Maggie Sutter at  m.sutter@hospiceoforange.com or call (845) 561-6111 ext. 366. \nWe look forward to seeing you on the course!
URL:https://hospiceoforange.com/event/15th-annual-golf-classic-to-take-place-august-8-2022/
LOCATION:The Powelton Club\, Balmville Road\, Newburgh\, 12550\, United States
CATEGORIES:Special Events
ATTACH;FMTTYPE=image/jpeg:https://hospiceoforange.com/wp-content/uploads/2022/05/Hospice-Golf-Event.jpg
END:VEVENT
END:VCALENDAR